Workbook
Name Adoption: #REF!
Name BI: #REF!
Name Business_Process: #REF!
Name Collaboration: #REF!
Name Core: #REF!
Name Customisation: #REF!
Name DeptTarget: 'Data capture'!$J$5:$J$20
Name Governance: #REF!
Name IA: #REF!
Name Infrastructure: #REF!
Name Integration: #REF!
Name Lowest_Performers: Dashboard!$L$9:$S$17
Name Mean: 'Data capture'!$I$5:$I$20
Name Organisation: 'Data capture'!$F$1
Name People: #REF!
Name Publication: #REF!
Name Scope: 'Data capture'!$K$1
Name Search: #REF!
Name Solutions: #REF!
Name SPBookmark_Please_x005f_x0020_assess_x005f_x0020_the_x0: 'Data capture'!$B$5
Name SPBookmark_Please_x005f_x0020_assess_x005f_x0020_the_x00: 'Data capture'!$B$6
Name SPBookmark_Please_x005f_x0020_assess_x005f_x0020_the_x01: 'Data capture'!$B$7
Name SPBookmark_Please_x005f_x0020_assess_x005f_x0020_the_x02: 'Data capture'!$B$8
Name SPBookmark_Please_x005f_x0020_assess_x005f_x0020_the_x03: 'Data capture'!$B$9
Name SPBookmark_Please_x005f_x0020_assess_x005f_x0020_the_x04: 'Data capture'!$B$10
Name SPBookmark_Please_x005f_x0020_assess_x005f_x0020_the_x05: 'Data capture'!$B$11
Name SPBookmark_Please_x005f_x0020_assess_x005f_x0020_the_x06: 'Data capture'!$B$12
Name SPBookmark_Please_x005f_x0020_assess_x005f_x0020_the_x07: 'Data capture'!$B$13
Name SPBookmark_Please_x005f_x0020_assess_x005f_x0020_the_x08: 'Data capture'!$B$14
Name SPBookmark_Please_x005f_x0020_assess_x005f_x0020_the_x09: 'Data capture'!$B$15
Name Stack: #REF!
Name Staffing: #REF!
Name Strategy: #REF!
Name Target: 'Data capture'!$N$5:$N$20

Sheet Dashboard
B1: ='Data capture'!B1 -> Judgement based Maturity Level assessment | G1: Content Set | K1: People Set | N1: Hardcore set | R1: Reserved for future use
B2: ="'Helicopter View' MM4M365 workshop tool for "&Organisation -> 'Helicopter View' MM4M365 workshop tool for <Name of Organisation> | C2: Assessment year | D2: Management of Content | E2: Collaboration | F2: Communication | G2: Search | H2: People and Communities | I2: Staff & Training | J2: Employee Experience | K2: Business Process | L2: Data and Analytics | M2: Customization and Development | N2: Infrastructure | O2: - | P2: - | Q2: - | R2: - | S2: - | U2: Date of Assessment | V2: Years organisation has been using Microsoft 365 | W2: Number of staff in organisation
B3: Rated on scale of 0 to 500 | C3: 2021 | D3: ='Data capture'!I5 -> - | E3: ='Data capture'!I6 -> - | F3: ='Data capture'!I7 -> - | G3: ='Data capture'!I8 -> - | H3: ='Data capture'!I9 -> - | I3: ='Data capture'!I10 -> - | J3: ='Data capture'!I11 -> - | K3: ='Data capture'!I12 -> - | L3: ='Data capture'!I13 -> - | M3: ='Data capture'!I14 -> - | N3: ='Data capture'!I15 -> - | O3: ='Data capture'!I16 -> - | P3: ='Data capture'!I17 -> - | Q3: ='Data capture'!I18 -> - | R3: ='Data capture'!I19 -> - | S3: ='Data capture'!I20 -> -
B4: See reference sheet | C4: =C3+1 -> 2022
C5: =C4+1 -> 2023
C6: Target | D6: ='Data capture'!N5 -> - | E6: ='Data capture'!N6 -> - | F6: ='Data capture'!N7 -> - | G6: ='Data capture'!N8 -> - | H6: ='Data capture'!N9 -> - | I6: ='Data capture'!N10 -> - | J6: ='Data capture'!N11 -> - | K6: ='Data capture'!N12 -> - | L6: ='Data capture'!N13 -> - | M6: ='Data capture'!N14 -> - | N6: ='Data capture'!N15 -> - | O6: ='Data capture'!N16 -> - | P6: ='Data capture'!N17 -> - | Q6: ='Data capture'!N18 -> - | R6: ='Data capture'!N19 -> - | S6: ='Data capture'!N20 -> - | U6: =Organisation -> <Name of Organisation>
C7: Gap | D7: =IFERROR(D6-D3,"-") -> - | E7: =IFERROR(E6-E3,"-") -> - | F7: =IFERROR(F6-F3,"_") -> _ | G7: =IFERROR(G6-G3,"_") -> _ | H7: =IFERROR(H6-H3,"-") -> - | I7: =IFERROR(I6-I3,"_") -> _ | J7: =IFERROR(J6-J3,"_") -> _ | K7: =IFERROR(K6-K3,"-") -> - | L7: =IFERROR(L6-L3,"-") -> - | M7: =IFERROR(M6-M3,"-") -> - | N7: =IFERROR(N6-N3,"-") -> - | O7: =IFERROR(O6-O3,"-") -> - | P7: =IFERROR(P6-P3,"-") -> - | Q7: =IFERROR(Q6-Q3,"-") -> - | R7: =IFERROR(R6-R3,"-") -> - | S7: =IFERROR(S6-S3,"-") -> -
L9: Lowest performers | U9: Notes and exceptions
L10: ="Current year - "&C3 -> Current year - 2021 | O10: Comment
L19: Highest Performers
L20: ="Current year - "&C3 -> Current year - 2021 | O20: Comment
B26: Follow us on Twitter
B27: @M365Maturity | @M365CommDocs
B29: Take the Maturity Model Self-Assessment | L29: Gap analysis implications | U29: Summary
B30: https://symp.info/MM4M365-SelfAssessment | L30: Maturity Gap | N30: Comment
L31: 0 - 200 | M31: Easy, with appropriate support and commitment
B32: Fill out the Maturity Model Survey | L32: 200 - 300 | M32: Challenging, needs significant commitment and resource
B33: https://symp.info/MM4M365Survey | L33: 300 - 400 | M33: Target is too high. Risks over-extension, underfunding & failure
L34: 400 - 500 | M34: Very dangerous, avoid this size step change
B35: Discussions in GitHub
B36: https://symp.info/MM4M365Discussion

Sheet Data capture
B1: Judgement based Maturity Level assessment | E1: Organisation: | F1: <Name of Organisation> | J1: Scope: | K1: <Organisation/department/team/process>
B2: Rate each competency as level 100, 200, 300, 400, or 500 using the stated criteria.
E3: Current assessment | J3: 12 month target
B4: Competencies | D4: All Company | E4: Department / Process 1 | F4: Department / Process 2 | G4: Department / Process 3 | H4: Department / Process 4 | I4: Mean | J4: Department / Process 1 | K4: Department / Process 2 | L4: Department / Process 3 | M4: Department / Process 4 | N4: Target (Organisation) | P4: Department /processes exceptions | R4: Links to Competency Definitions
B5: =Dashboard!D2 -> Management of Content | C5: è | I5: =IFERROR(AVERAGE(D5:H5),"-") -> - | N5: =IFERROR(AVERAGE(J5:M5),"-") -> - | R5: https://docs.microsoft.com/en-us/microsoft-365/community/microsoft365-maturity-model--management-of-content#definition-of-this-competency
B6: =Dashboard!E2 -> Collaboration | C6: è | I6: =IFERROR(AVERAGE(D6:H6),"-") -> - | N6: =IFERROR(AVERAGE(J6:M6),"-") -> - | R6: https://docs.microsoft.com/en-us/microsoft-365/community/microsoft365-maturity-model--collaboration#definition-of-this-competency
B7: =Dashboard!F2 -> Communication | C7: è | I7: =IFERROR(AVERAGE(D7:H7),"-") -> - | N7: =IFERROR(AVERAGE(J7:M7),"-") -> - | R7: https://docs.microsoft.com/en-us/microsoft-365/community/microsoft365-maturity-model--communication#definition-of-this-competency
B8: =Dashboard!G2 -> Search | C8: è | I8: =IFERROR(AVERAGE(D8:H8),"-") -> - | N8: =IFERROR(AVERAGE(J8:M8),"-") -> - | R8: https://docs.microsoft.com/en-us/microsoft-365/community/microsoft365-maturity-model--search#definition-of-this-competency
B9: =Dashboard!H2 -> People and Communities | C9: è | I9: =IFERROR(AVERAGE(D9:H9),"-") -> - | N9: =IFERROR(AVERAGE(J9:M9),"-") -> - | R9: https://docs.microsoft.com/en-us/microsoft-365/community/microsoft365-maturity-model--people-and-communities-competency#definition-of-this-competency
B10: =Dashboard!I2 -> Staff & Training | C10: è | I10: =IFERROR(AVERAGE(D10:H10),"-") -> - | N10: =IFERROR(AVERAGE(J10:M10),"-") -> - | R10: https://docs.microsoft.com/en-us/microsoft-365/community/microsoft365-maturity-model--staff-and-training#definition-of-this-competency
B11: =Dashboard!J2 -> Employee Experience | C11: è | I11: =IFERROR(AVERAGE(D11:H11),"-") -> - | N11: =IFERROR(AVERAGE(J11:M11),"-") -> -
B12: =Dashboard!K2 -> Business Process | C12: è | I12: =IFERROR(AVERAGE(D12:H12),"-") -> - | N12: =IFERROR(AVERAGE(J12:M12),"-") -> - | R12: https://docs.microsoft.com/en-us/microsoft-365/community/microsoft365-maturity-model--business-process#definition-of-this-competency
B13: =Dashboard!L2 -> Data and Analytics | C13: è | I13: =IFERROR(AVERAGE(D13:H13),"-") -> - | N13: =IFERROR(AVERAGE(J13:M13),"-") -> -
B14: =Dashboard!M2 -> Customization and Development | C14: è | I14: =IFERROR(AVERAGE(D14:H14),"-") -> - | N14: =IFERROR(AVERAGE(J14:M14),"-") -> - | R14: https://docs.microsoft.com/en-us/microsoft-365/community/microsoft365-maturity-model--customization-and-development#definition-of-this-competency
B15: =Dashboard!N2 -> Infrastructure | C15: è | I15: =IFERROR(AVERAGE(D15:H15),"-") -> - | N15: =IFERROR(AVERAGE(J15:M15),"-") -> -
B16: =Dashboard!O2 -> - | C16: è | I16: =IFERROR(AVERAGE(D16:H16),"-") -> - | N16: =IFERROR(AVERAGE(J16:M16),"-") -> -
B17: =Dashboard!P2 -> - | C17: è | I17: =IFERROR(AVERAGE(D17:H17),"-") -> - | N17: =IFERROR(AVERAGE(J17:M17),"-") -> -
B18: =Dashboard!Q2 -> - | C18: è | I18: =IFERROR(AVERAGE(D18:H18),"-") -> - | N18: =IFERROR(AVERAGE(J18:M18),"-") -> -
B19: =Dashboard!R2 -> - | C19: è | I19: =IFERROR(AVERAGE(D19:H19),"-") -> - | N19: =IFERROR(AVERAGE(J19:M19),"-") -> -
B20: =Dashboard!S2 -> - | I20: =IFERROR(AVERAGE(D20:H20),"-") -> - | N20: =IFERROR(AVERAGE(J20:M20),"-") -> -

Sheet Instructions and Notes
A1: Instructions - Set up 1. Enter your organisation name in the Organisation field on the Data Capture worksheet. 2. Decide whether the assessment is for the Company as a whole or for a range of Teams, Departments or Processes. State this in the Scope field. Remove/Cross out any Competencies you are not going to focus on
A2: Instructions - Running the workshop 1. Familiarise everyone in the group with the criteria for achieving each level, using the 'Maturity Model for M365' level descriptions and keywords, in conjunction with the Introduction document (link below). These are reproduced below. It is suggested that these levels are made available to all workshop participants. 2. Now consider the definitions for each Competency. Links are provided on the Data Capture sheet. As a group, form a consensus for each competency for the company as a whole or each department etc. If undecided, choose the midway point between levels. Note: the criteria should be applied strictly - you might be using lots of powerful features, but if these are not agreed, standardised and broadly adopted then it's unlikely level 300 had been achieved, for example. 3. Enter this value in the Current Assessment column for that sub-competency on the Data Capture sheet 4. Now review the higher level criteria and reach a consensus on what the level is that the business should be mostly operating at in a year's time. This MUST be a multiple of 100 - no half way positions. 5. There may be parts of the business that need to operate at a higher (or lower) level than the general one, in which case note these exceptions and the reasons why. 6. Continue until you have completed each Competency.
A3: Maturity Model for Microsoft 365 - Introduction | Microsoft Docs
A5: Microsoft 365 Community Content | Microsoft Docs
A7: Note: It is often useful to run separate workshops with different groups in large departments. Having managers in one group and staff in another is often insightful.
A9: Capability Maturity Model
A10: The original Capability Maturity Model defined a 5 point scale, representing the following levels: | B10: A maturity model can be viewed as a set of structured levels that describe how well the behaviours, practices and processes of an organization can reliably and sustainably produce required outcomes. | C10: A maturity model can be used as a benchmark for comparison and as an aid to understanding - for example, for comparative assessment of different organizations where there is something in common that can be used as a basis for comparison. In the case of the CMM, for example, the basis for comparison would be the organizations' software development processes.
A11: 1. Initial | B11: The starting point for use of a new or undocumented repeat process. | C11: (Typically) undocumented and in a state of dynamic change, tending to be driven in an ad hoc, uncontrolled and reactive manner by users or events. This provides a chaotic or unstable environment for the processes.
A12: 2. Repeatable | B12: The process is at least documented sufficiently such that repeating the same steps may be attempted. | C12: Some processes are repeatable, possibly with consistent results. Process discipline is unlikely to be rigorous, but where it exists it may help to ensure that existing processes are maintained during times of stress.
A13: 3. Defined | B13: The process is defined/confirmed as a standard business process | C13: There are sets of defined and documented standard processes established and subject to some degree of improvement over time. These standard processes are in place. The processes may not have been systematically or repeatedly used - sufficient for the users to become competent or the process to be validated in a range of situations. This could be considered a developmental stage - with use in a wider range of conditions and user competence development the process can develop to next level of maturity.
A14: 4. Managed (Capable) | B14: The process is quantitatively managed in accordance with agreed-upon metrics. | C14: Effective achievement of the process objectives can be evidenced (using metrics) across a range of operational conditions. The suitability of the process in multiple environments has been tested and the process refined and adapted. Process users have experienced the process in multiple and varied conditions, and are able to demonstrate competence. The process maturity enables adaptions to particular projects without measurable losses of quality or deviations from specifications. Process Capability is established from this level.
A15: 5. Optimizing (Efficient) | B15: Process management includes deliberate process optimization/improvement. | C15: The focus is on continually improving process performance through both incremental and innovative technological changes/improvements. At maturity level 5, processes are concerned with addressing statistical common causes of process variation and changing the process (for example, to shift the mean of the process performance) to improve process performance. This would be done at the same time as maintaining the likelihood of achieving the established quantitative process-improvement objectives.
